BEGIN:VCALENDAR
VERSION:2.0
PRODID:-//Calendario de Fiestas Costumbristas - ECPv6.15.20//NONSGML v1.0//EN
CALSCALE:GREGORIAN
METHOD:PUBLISH
X-WR-CALNAME:Calendario de Fiestas Costumbristas
X-ORIGINAL-URL:https://calendario.fiestascostumbristas.cl
X-WR-CALDESC:Eventos para Calendario de Fiestas Costumbristas
REFRESH-INTERVAL;VALUE=DURATION:PT1H
X-Robots-Tag:noindex
X-PUBLISHED-TTL:PT1H
BEGIN:VTIMEZONE
TZID:UTC
BEGIN:STANDARD
TZOFFSETFROM:+0000
TZOFFSETTO:+0000
TZNAME:UTC
DTSTART:20240101T000000
END:STANDARD
END:VTIMEZONE
BEGIN:VEVENT
DTSTART;VALUE=DATE:20250802
DTEND;VALUE=DATE:20250804
DTSTAMP:20260422T181510
CREATED:20250725T233050Z
LAST-MODIFIED:20250726T010317Z
UID:19-1754092800-1754265599@calendario.fiestascostumbristas.cl
SUMMARY:Fiesta del Chancho Talca 2025
DESCRIPTION:Esta fiesta espera recibir nuevamente a cerca de 300 mil visitantes de la Región del Maule\, del país y del extranjero\, reactivando así la economía local a través de emprendedores y productores. \nEn esta nueva versión se prepararán cerca de 40 toneladas de  carne de cerdo en distintas recetas\, generando más de 25.000 degustaciones basadas en 20 preparaciones nacionales e internacionales. Además\, el evento incluirá la participación de 20 chefs\, 27 restaurantes\, 8 pastelerías\, 8 stands de bebidas\, 24 cervecerías y 24 viñas de la Ruta del Vino Valle del Maule\, junto a stand con temática mundialera (en la antesala del Mundial Sub 20 de la FIFA)\, marcas auspiciadoras\, entre otras. \nLa versión 2025 contará por primera vez con una chef asesora mujer: Daniela Montecinos\, quien ha estado vinculada al evento desde sus inicios como estudiante de gastronomía en Inacap y ahora liderará la operación gastronómica. “Es un honor para mí poder representar la gastronomía con otro punto de vista. Los quiero dejar a todos invitados a disfrutar el 2 y 3 de agosto. Vamos a tener distintos expositores de nivel nacional e internacional\, desde Iquique hasta Puerto Varas\, así que los dejo a todos cordialmente invitados a disfrutar en familia\, que lo vamos a pasar súper bien”.
URL:https://calendario.fiestascostumbristas.cl/fiesta/fiesta-del-chancho-talca-2025/
LOCATION:Plaza de Armas de Talca\, Talca\, Maule\, Chile
CATEGORIES:Fiesta del Chancho
ATTACH;FMTTYPE=image/webp:https://calendario.fiestascostumbristas.cl/wp-content/uploads/2025/07/Fiesta-del-Chancho-talca-2025.webp
END:VEVENT
BEGIN:VEVENT
DTSTART;VALUE=DATE:20250810
DTEND;VALUE=DATE:20250811
DTSTAMP:20260422T181510
CREATED:20250727T013059Z
LAST-MODIFIED:20250729T220305Z
UID:86-1754784000-1754870399@calendario.fiestascostumbristas.cl
SUMMARY:La Fiesta del Chancho en Tomé 2025
DESCRIPTION:Fiesta Reagendada \nEl próximo 3 10 de agosto se celebrará en Tomé una de las festividades más sabrosas y esperadas del año: La Fiesta del Chancho en Tomé 2025. Región del Biobío. \n\n\n\nUn evento familiar que rescata la cultura y sabores criollos de nuestra tierra\, acompañados de música\, juegos y un entorno natural ideal para compartir. \nActividades y atractivos\nEste evento contará con una gran variedad de actividades para todos los gustos: \n\nGastronomía criolla: delicias típicas para disfrutar.\nArtesanía local: trabajos hechos a mano por artesanos de la zona.\nProductos agroecológicos: una muestra de producción sustentable.\nJuegos infantiles: para la diversión de los más pequeños.\nEntorno natural: ideal para pasar el día al aire libre.\nMúsica en vivo: una parrilla de artistas que animará la jornada.
URL:https://calendario.fiestascostumbristas.cl/fiesta/la-fiesta-del-chancho-en-tome-2025/
LOCATION:Cancha Rafael\, Tomé\, Cancha Rafael\, Tomé\, Tomé\, Biobío\, Chile
CATEGORIES:Fiesta del Chancho
ATTACH;FMTTYPE=image/webp:https://calendario.fiestascostumbristas.cl/wp-content/uploads/2025/07/fiesta-del-chancho-en-tome-2025.webp
END:VEVENT
BEGIN:VEVENT
DTSTART;TZID=UTC:20250823T110000
DTEND;TZID=UTC:20250823T180000
DTSTAMP:20260422T181510
CREATED:20250811T234529Z
LAST-MODIFIED:20250811T234529Z
UID:664-1755946800-1755972000@calendario.fiestascostumbristas.cl
SUMMARY:Fiesta Costumbrista del Cerdo en Placilla
DESCRIPTION:El próximo sábado 23 de agosto\, la comuna de Placilla se vestirá de fiesta con la Fiesta Costumbrista del Cerdo\, un evento que reunirá folklore\, entretención\, música y sorteos en un solo lugar. \nLa celebración se llevará a cabo en la Pérgola Municipal de Placilla desde las 11:00 AM hasta las 18:00 hrs\, y promete ser una jornada ideal para disfrutar en familia y con amigos. \nBases de postulación para puestos\nSi deseas participar como expositor\, ya están disponibles las bases de postulación para puestos. Este es el momento perfecto para que emprendedores\, artesanos y productores locales muestren sus productos y compartan con la comunidad. \nEl evento cuenta con el apoyo de distintas instituciones y empresas\, lo que asegura una organización de calidad y gran afluencia de público. \nDetalles del evento\n\n\nFecha: Sábado 23 de agosto \n\n\nHorario: 11:00 AM a 18:00 hrs \n\n\nLugar: Pérgola Municipal de Placilla \n\n\nActividades: Folklore\, entretención\, música\, sorteos \n\n\nOrganiza: I. Municipalidad de Placilla \n\n\nColaboran: AIEP\, Cook & Fun!\, Agrícola AASA\, Coca-Cola Zero Azúcar
URL:https://calendario.fiestascostumbristas.cl/fiesta/fiesta-costumbrista-del-cerdo-en-placilla/
LOCATION:Pergola Municipal de Placilla\, 9V6M+5R\, Placilla\, O'Higgins\, Chile
CATEGORIES:Fiesta del Chancho
ATTACH;FMTTYPE=image/webp:https://calendario.fiestascostumbristas.cl/wp-content/uploads/2025/08/Fiesta-del-Cerdo-Placilla.webp
END:VEVENT
BEGIN:VEVENT
DTSTART;VALUE=DATE:20250830
DTEND;VALUE=DATE:20250831
DTSTAMP:20260422T181510
CREATED:20250807T221722Z
LAST-MODIFIED:20250807T221803Z
UID:641-1756512000-1756598399@calendario.fiestascostumbristas.cl
SUMMARY:Gran Fiesta del Chancho de Campo 2025
DESCRIPTION:Este 30 de agosto se celebrará uno de los eventos más esperados del año en Quillón: la Gran Fiesta del Chancho de Campo 2025. Una jornada llena de tradiciones\, sabores auténticos y diversión para toda la familia\, organizada con el cariño de la comunidad local. \n¿Qué podrás disfrutar?\nEn esta gran fiesta encontrarás una amplia variedad de actividades y atractivos para todos los gustos: \nComidas típicas\nStand de degustación y ventas\nJuegos infantiles\nShow folclórico\nExcelente barra\nExcelentes bandas rancheras\nProductos locales\nArtesanías \n¡Recinto techado y entrada liberada!\nNo te preocupes por el clima: el evento se realizará en un recinto techado\, y lo mejor de todo es que la entrada es totalmente gratuita. \nDetalles del evento\n Fecha: Sábado 30 de agosto Hora: 10:00 horas Lugar: Cancha Club Deportivo Cerro Negro – El SifónRuta Chillancito a Liucura Bajo \nOrganizan e invitan\n\n\nJunta de Vecinos Renacer El Sifón \n\n\nClub Deportivo Cerro Negro \n\n\nIlustre Municipalidad de Quillón \n\n\nAdemás\, habrá buses de acercamiento gratuitos para que todos puedan asistir con comodidad. \n\nFuente: Ilustre Municipalidad de Quillón
URL:https://calendario.fiestascostumbristas.cl/fiesta/gran-fiesta-del-chancho-de-campo-2025/
LOCATION:Club Deportivo Cerro Negro\, Quillón\, Ñuble\, Chile
CATEGORIES:Fiesta del Chancho
END:VEVENT
END:VCALENDAR