BEGIN:VCALENDAR
VERSION:2.0
PRODID:-//Calendario de Fiestas Costumbristas - ECPv6.15.20//NONSGML v1.0//EN
CALSCALE:GREGORIAN
METHOD:PUBLISH
X-WR-CALNAME:Calendario de Fiestas Costumbristas
X-ORIGINAL-URL:https://calendario.fiestascostumbristas.cl
X-WR-CALDESC:Eventos para Calendario de Fiestas Costumbristas
REFRESH-INTERVAL;VALUE=DURATION:PT1H
X-Robots-Tag:noindex
X-PUBLISHED-TTL:PT1H
BEGIN:VTIMEZONE
TZID:UTC
BEGIN:STANDARD
TZOFFSETFROM:+0000
TZOFFSETTO:+0000
TZNAME:UTC
DTSTART:20240101T000000
END:STANDARD
END:VTIMEZONE
BEGIN:VEVENT
DTSTART;VALUE=DATE:20250808
DTEND;VALUE=DATE:20250811
DTSTAMP:20260423T061315
CREATED:20250728T232202Z
LAST-MODIFIED:20250728T232202Z
UID:94-1754611200-1754870399@calendario.fiestascostumbristas.cl
SUMMARY:Fiesta Virgen de las Nieves 2025 en Paredones
DESCRIPTION:La Fiesta Virgen de las Nieves 2025 en Paredones es la más importante de esta comuna del secano costero de la provincia de Cardenal Caro\, región de O’Higgins y se celebrará este 8\, 9 y 10 de agosto en la Plaza de Armas de la ciudad. \n 
URL:https://calendario.fiestascostumbristas.cl/fiesta/fiesta-virgen-de-las-nieves-2025-en-paredones/
LOCATION:Paredones\, Paredones\, O'Higgins
CATEGORIES:Feria Campesina,Fiesta Costumbrista,Fiesta Religiosas
ATTACH;FMTTYPE=image/webp:https://calendario.fiestascostumbristas.cl/wp-content/uploads/2025/07/fiesta-virgen-de-las-nieves-2025-en-paredones.webp
END:VEVENT
BEGIN:VEVENT
DTSTART;VALUE=DATE:20250823
DTEND;VALUE=DATE:20250825
DTSTAMP:20260423T061315
CREATED:20250807T230601Z
LAST-MODIFIED:20250807T230601Z
UID:653-1755907200-1756079999@calendario.fiestascostumbristas.cl
SUMMARY:Expo Campesina Las Breas Río Hurtado 2025
DESCRIPTION:Los días 23 y 24 de agosto\, el sector medialuna de Río Hurtado será el escenario de la esperada Expo Campesina Las Breas 2025\, una fiesta que celebra las tradiciones rurales\, la cultura local y la vida del campo con una variada programación para toda la familia. \nCarreras a la chilena y juegos populares\nUna de las grandes atracciones serán las carreras a la chilena\, junto con juegos populares y actividades campesinas que rescatan el espíritu tradicional del campo chileno. \nAgrupaciones folclóricas y gastronomía típica\nDurante el evento\, se presentarán diversas agrupaciones folclóricas y se podrá disfrutar de productos típicos y comida tradicional\, ofreciendo una experiencia auténtica y sabrosa para los asistentes. \nExperiencias campesinas\nTambién se desarrollarán espacios de conversación bajo el nombre de experiencias campesinas\, donde se compartirán saberes\, historias y reflexiones sobre la vida rural y la identidad local. \nRío Hurtado\, capital nacional de la paleontología\nOrganizado por la Ilustre Municipalidad de Río Hurtado\, este evento se enmarca dentro del reconocimiento de la comuna como Capital Nacional de la Paleontología\, consolidando su riqueza cultural\, patrimonial y natural. \n\nFuente: Ilustre Municipalidad de Río Hurtado
URL:https://calendario.fiestascostumbristas.cl/fiesta/expo-campesina-las-breas-rio-hurtado-2025/
LOCATION:Medialuna Las Breas\, J9FR+P3 Las Breas\, Río Hurtado\, Chile
CATEGORIES:Feria Campesina,Fiesta Huasa
ATTACH;FMTTYPE=image/webp:https://calendario.fiestascostumbristas.cl/wp-content/uploads/2025/08/Expo-campesina-rio-hurtado.webp
END:VEVENT
BEGIN:VEVENT
DTSTART;VALUE=DATE:20250830
DTEND;VALUE=DATE:20250901
DTSTAMP:20260423T061315
CREATED:20250812T234316Z
LAST-MODIFIED:20250812T234316Z
UID:684-1756512000-1756684799@calendario.fiestascostumbristas.cl
SUMMARY:Fiesta Cordillerana: Maestros del Fuego
DESCRIPTION:El evento Maestros del Fuego llega este 2025 con una nueva edición cargada de sabor\, tradición y entretención. Se trata de un Torneo de Corderos al Palo que reunirá a expertos parrilleros y amantes de la buena mesa. \nSe busca al mejor asador de cordero al palo\nEn el marco del evento Maestros del Fuego\, se abre la convocatoria para encontrar al mejor asador de cordero al palo. Esta competencia premiará a los parrilleros más destacados que logren conquistar al jurado con su técnica y sabor. \nRecompensas\n1er lugar: $1.000.000 \n2do lugar: $400.000 \n3er lugar: $200.000 \nPrograma\nMaster class \nGastronomía \nCervezas y vinos \nMúsica en vivo \nParque de juegos \nDegustaciones gratuitas \nQuedan cupos para la competencia. Emprendedores cupos llenos.
URL:https://calendario.fiestascostumbristas.cl/fiesta/fiesta-cordillerana-maestros-del-fuego/
LOCATION:Maestros del Fuego\, 2GV7+H3 Linares\, Linares\, MNaule\, Chile
CATEGORIES:Feria Campesina
ATTACH;FMTTYPE=image/webp:https://calendario.fiestascostumbristas.cl/wp-content/uploads/2025/08/maestros-del-fuego.webp
END:VEVENT
END:VCALENDAR