BEGIN:VCALENDAR
VERSION:2.0
PRODID:-//Calendario de Fiestas Costumbristas - ECPv6.15.20//NONSGML v1.0//EN
CALSCALE:GREGORIAN
METHOD:PUBLISH
X-WR-CALNAME:Calendario de Fiestas Costumbristas
X-ORIGINAL-URL:https://calendario.fiestascostumbristas.cl
X-WR-CALDESC:Eventos para Calendario de Fiestas Costumbristas
REFRESH-INTERVAL;VALUE=DURATION:PT1H
X-Robots-Tag:noindex
X-PUBLISHED-TTL:PT1H
BEGIN:VTIMEZONE
TZID:UTC
BEGIN:STANDARD
TZOFFSETFROM:+0000
TZOFFSETTO:+0000
TZNAME:UTC
DTSTART:20240101T000000
END:STANDARD
END:VTIMEZONE
BEGIN:VEVENT
DTSTART;VALUE=DATE:20250809
DTEND;VALUE=DATE:20250810
DTSTAMP:20260423T194835
CREATED:20250803T213200Z
LAST-MODIFIED:20250803T213213Z
UID:231-1754697600-1754783999@calendario.fiestascostumbristas.cl
SUMMARY:Feria Gastronómica Intercultural Pedro Aguirre Cerda: Una Fiesta de Sabores y Culturas
DESCRIPTION:La Municipalidad de Pedro Aguirre Cerda invita a toda la comunidad a disfrutar de una jornada única de encuentro cultural y gastronómico\, donde diversas naciones de Latinoamérica y el Caribe estarán representadas en un ambiente festivo y familiar. \nParticipan países de toda América\nEn esta feria se darán cita representantes de: \nChile\, Cuba\, Perú\, Argentina\, Colombia\, Ecuador\, Paraguay\, República Dominicana\, Venezuela\, Bolivia y Haití. \nUna oportunidad para degustar sabores típicos\, aprender de costumbres diversas y compartir con personas de distintas culturas. \nActividades destacadas\n\n\nZona de emprendedores \n\n\nBailes típicos \n\n\nMúsica en vivo \n\n\nY el show especial de: Sonora Malecón \n\n\nLa jornada contará con una amplia variedad de stands gastronómicos\, música que hará bailar a todos los asistentes y un ambiente diseñado para compartir en familia.
URL:https://calendario.fiestascostumbristas.cl/fiesta/feria-gastronomica-intercultural-pedro-aguirre-cerda/
LOCATION:Estadio la Marina\, Av.La Marina 2500\, Santiago\, Metropolitana\, Chile
CATEGORIES:Festival Gastronómico
ATTACH;FMTTYPE=image/webp:https://calendario.fiestascostumbristas.cl/wp-content/uploads/2025/08/feria-gastronomica-intercultural.webp
END:VEVENT
END:VCALENDAR