BEGIN:VCALENDAR
VERSION:2.0
PRODID:-//Calendario de Fiestas Costumbristas - ECPv6.15.20//NONSGML v1.0//EN
CALSCALE:GREGORIAN
METHOD:PUBLISH
X-WR-CALNAME:Calendario de Fiestas Costumbristas
X-ORIGINAL-URL:https://calendario.fiestascostumbristas.cl
X-WR-CALDESC:Eventos para Calendario de Fiestas Costumbristas
REFRESH-INTERVAL;VALUE=DURATION:PT1H
X-Robots-Tag:noindex
X-PUBLISHED-TTL:PT1H
BEGIN:VTIMEZONE
TZID:UTC
BEGIN:STANDARD
TZOFFSETFROM:+0000
TZOFFSETTO:+0000
TZNAME:UTC
DTSTART:20240101T000000
END:STANDARD
END:VTIMEZONE
BEGIN:VEVENT
DTSTART;TZID=UTC:20250927T080000
DTEND;TZID=UTC:20250927T170000
DTSTAMP:20260423T183020
CREATED:20250927T142226Z
LAST-MODIFIED:20250927T142226Z
UID:853-1758960000-1758992400@calendario.fiestascostumbristas.cl
SUMMARY:Fiesta de los Porotos con Cochayuyo 2025
DESCRIPTION:Una de las tradiciones gastronómicas más representativas de la comuna de Chanco regresa con toda su fuerza. La IV Fiesta de los Porotos con Cochayuyo 2025 es una celebración que reúne los sabores del campo y del mar en una receta que ha sido parte del alma chanquina por generaciones.\n\n \n\nEste 10\, 11 y 12 de octubre\, la Plaza de Armas de Chanco\, región del Maule\, será el epicentro de esta fiesta cultural y culinaria\, donde visitantes y locales podrán disfrutar de un plato que fusiona lo mejor de la tierra con los frutos del mar.
URL:https://calendario.fiestascostumbristas.cl/fiesta/fiesta-de-los-porotos-con-cochayuyo-2025/
LOCATION:Plaza de Armas de Chanco\, 7F88+7P\, Chanco\, Maule\, Chile
CATEGORIES:Festival Gastronómico
ATTACH;FMTTYPE=image/webp:https://calendario.fiestascostumbristas.cl/wp-content/uploads/2025/09/Fiesta-de-los-porotos-con-cochayuyo-en-Chanco.webp
END:VEVENT
END:VCALENDAR