BEGIN:VCALENDAR
VERSION:2.0
PRODID:-//Calendario de Fiestas Costumbristas - ECPv6.15.20//NONSGML v1.0//EN
CALSCALE:GREGORIAN
METHOD:PUBLISH
X-WR-CALNAME:Calendario de Fiestas Costumbristas
X-ORIGINAL-URL:https://calendario.fiestascostumbristas.cl
X-WR-CALDESC:Eventos para Calendario de Fiestas Costumbristas
REFRESH-INTERVAL;VALUE=DURATION:PT1H
X-Robots-Tag:noindex
X-PUBLISHED-TTL:PT1H
BEGIN:VTIMEZONE
TZID:UTC
BEGIN:STANDARD
TZOFFSETFROM:+0000
TZOFFSETTO:+0000
TZNAME:UTC
DTSTART:20250101T000000
END:STANDARD
END:VTIMEZONE
BEGIN:VEVENT
DTSTART;VALUE=DATE:20260307
DTEND;VALUE=DATE:20260309
DTSTAMP:20260423T104938
CREATED:20260226T222244Z
LAST-MODIFIED:20260226T222244Z
UID:1098-1772841600-1773014399@calendario.fiestascostumbristas.cl
SUMMARY:Sagra y Carretada de Capitán Pastene 2026
DESCRIPTION:La Sagra y Carretada Capitán Pastene 2026 se realizará el Sábado 7 y domingo 8 de marzo\, para conmemorar los 122 años de la llegada de los colonos italianos a Capitán Pastene\, en la Región de la Araucanía.\n\n\n\nLa histórica carretada comienza a las 11:00 hrs. desde el terreno Balocchi (entrada de Capitán Pastene) y luego de recorrer las calles\, conduce a los participantes\, ataviados con ropa de época\, entre música y canciones\, hasta la Plaza de Armas. Si quieres participar es obligatorio vestir a la usanza italiana antigua\, mujeres con vestido y pañuelo en la cabeza y hombres pantalón de tela\, camisa\, chaleco y boina o sombrero.\n\n \n\nSi vas en vehículo debes llegar más temprano a fin de estacionar en el pueblo.\n\n \n\nAhí se lleva a cabo\, desde las 13:00 hrs.\, la ya célebre Sagra; con cerca de 50 puestos de excelente gastronomía italiana y chilena: capelletis\, gnocchi y variados tipos de pastas producida en la zona. Habrán stands de artesanía\, vinos y cervezas locales. Se espera la llegada de más de 15 mil personas.
URL:https://calendario.fiestascostumbristas.cl/fiesta/sagra-y-carretada-de-capitan-pastene-2026/
LOCATION:Capitan Pastene\, R245+J2\, Capitan Pastene\, Lumaco\, Araucanía\, Chile
CATEGORIES:Aniversario,Festival Gastronómico,Fiesta Costumbrista
ATTACH;FMTTYPE=image/png:https://calendario.fiestascostumbristas.cl/wp-content/uploads/2026/02/Captura-de-pantalla-2026-02-26-a-las-7.22.03-p.m.png
END:VEVENT
END:VCALENDAR