BEGIN:VCALENDAR
VERSION:2.0
PRODID:-//Calendario de Fiestas Costumbristas - ECPv6.15.20//NONSGML v1.0//EN
CALSCALE:GREGORIAN
METHOD:PUBLISH
X-ORIGINAL-URL:https://calendario.fiestascostumbristas.cl
X-WR-CALDESC:Eventos para Calendario de Fiestas Costumbristas
REFRESH-INTERVAL;VALUE=DURATION:PT1H
X-Robots-Tag:noindex
X-PUBLISHED-TTL:PT1H
BEGIN:VTIMEZONE
TZID:UTC
BEGIN:STANDARD
TZOFFSETFROM:+0000
TZOFFSETTO:+0000
TZNAME:UTC
DTSTART:20240101T000000
END:STANDARD
END:VTIMEZONE
BEGIN:VEVENT
DTSTART;VALUE=DATE:20250815
DTEND;VALUE=DATE:20250818
DTSTAMP:20260422T190349
CREATED:20250803T173401Z
LAST-MODIFIED:20250803T173401Z
UID:222-1755216000-1755475199@calendario.fiestascostumbristas.cl
SUMMARY:Fiesta del Cholguazo 2025
DESCRIPTION:Llega a Lirquén uno de los eventos más esperados del año: la Fiesta del Cholguazo 2025\, una celebración gastronómica y cultural que promete llenar de sabor y entretención el mes de agosto. Este evento se destaca por ser el más grande de Chile dedicado al choro maltón o “cholguazo”\, un molusco típico de la zona. \n¿Qué ofrece la Fiesta del Cholguazo?\nLa Fiesta del Cholguazo ofrecerá una experiencia imperdible para toda la familia. Entre las actividades y atractivos del evento se encuentran: \n\n\nDegustaciones \n\n\nMúsica en vivo \n\n\nDJ \n\n\nConcursos \n\n\nJuegos \n\n\nFood truck \n\n\nCervezas artesanales \n\n\nEntre otras actividades \n\n\nFechas y horarios\nLa fiesta se realizará los días 15\, 16 y 17 de agosto en la Plaza de Lirquén. Los horarios son: \n\n\nViernes: 14:00 a 21:00 hrs \n\n\nSábado y domingo: 12:00 a 21:00 hrs \n\n\nOrganización y apoyo\nOrganiza: Asociación Gremial Turística Gastronómica Mercado Chino de Lirquén G.Apoya: Municipio Ciudadano Penco + Lirquén \nParticipan: \n\n\nFuzz Cervecería \n\n\nPorteña \n\n\nAwenum Cerveza Artesanal \n\n\nLa Cafetera \n\n\nSTU \n\n\nRuta 150
URL:https://calendario.fiestascostumbristas.cl/fiesta/fiesta-del-cholguazo-2025/
LOCATION:Plaza de Lirquen\, 99\, Camilo Henríquez 1\, Lirquen\,\, Penco\, Biobio\, Chile
CATEGORIES:Fiesta Costumbrista
ATTACH;FMTTYPE=image/webp:https://calendario.fiestascostumbristas.cl/wp-content/uploads/2025/08/fiesta-del-cholguazo-2025.webp
END:VEVENT
END:VCALENDAR