BEGIN:VCALENDAR
VERSION:2.0
PRODID:-//Calendario de Fiestas Costumbristas - ECPv6.15.20//NONSGML v1.0//EN
CALSCALE:GREGORIAN
METHOD:PUBLISH
X-WR-CALNAME:Calendario de Fiestas Costumbristas
X-ORIGINAL-URL:https://calendario.fiestascostumbristas.cl
X-WR-CALDESC:Eventos para Calendario de Fiestas Costumbristas
REFRESH-INTERVAL;VALUE=DURATION:PT1H
X-Robots-Tag:noindex
X-PUBLISHED-TTL:PT1H
BEGIN:VTIMEZONE
TZID:UTC
BEGIN:STANDARD
TZOFFSETFROM:+0000
TZOFFSETTO:+0000
TZNAME:UTC
DTSTART:20240101T000000
END:STANDARD
END:VTIMEZONE
BEGIN:VEVENT
DTSTART;VALUE=DATE:20250822
DTEND;VALUE=DATE:20250825
DTSTAMP:20260422T185943
CREATED:20250731T225806Z
LAST-MODIFIED:20250731T225806Z
UID:125-1755820800-1756079999@calendario.fiestascostumbristas.cl
SUMMARY:Fiesta de la Longaniza Chillán 2025
DESCRIPTION:Ven y disfruta de tres días de sabores\, música y diversión este 22\, 23 y 24 de agosto en la Fiesta de la Longaniza Chillán 2025. La que se realizará en la Plaza de Armas de Chillán\, región de Ñuble. \nEn la Plaza de Armas y sus alrededores se dispondrán stands para cecineros\, artesanos\, cerveceros\, productos gourmet\, productores gastronómicos\, empresas vitivinícolas\, food trucks\, juegos y entretención\, carros de confites y emprendedores formalizados. Un 80% de ellos son de Chillán y el otro 20% es de comunas aledañas. \n 
URL:https://calendario.fiestascostumbristas.cl/fiesta/fiesta-de-la-longaniza-chillan-2025/
LOCATION:Plaza de Armas de Chillan\, Plaza de Armas de Chillán\, Chillán\, Ñuble\, Chile
CATEGORIES:Fiesta Costumbrista
ATTACH;FMTTYPE=image/webp:https://calendario.fiestascostumbristas.cl/wp-content/uploads/2025/07/fiesta-de-la-longaniza-2024-chillan.webp
END:VEVENT
END:VCALENDAR