BEGIN:VCALENDAR
VERSION:2.0
PRODID:-//Calendario de Fiestas Costumbristas - ECPv6.15.20//NONSGML v1.0//EN
CALSCALE:GREGORIAN
METHOD:PUBLISH
X-WR-CALNAME:Calendario de Fiestas Costumbristas
X-ORIGINAL-URL:https://calendario.fiestascostumbristas.cl
X-WR-CALDESC:Eventos para Calendario de Fiestas Costumbristas
REFRESH-INTERVAL;VALUE=DURATION:PT1H
X-Robots-Tag:noindex
X-PUBLISHED-TTL:PT1H
BEGIN:VTIMEZONE
TZID:UTC
BEGIN:STANDARD
TZOFFSETFROM:+0000
TZOFFSETTO:+0000
TZNAME:UTC
DTSTART:20240101T000000
END:STANDARD
END:VTIMEZONE
BEGIN:VEVENT
DTSTART;TZID=UTC:20250923T080000
DTEND;TZID=UTC:20250923T170000
DTSTAMP:20260422T202848
CREATED:20250923T230149Z
LAST-MODIFIED:20250923T230738Z
UID:817-1758614400-1758646800@calendario.fiestascostumbristas.cl
SUMMARY:Expo Raíces Las Cabras 2025
DESCRIPTION:La región de O’Higgins\, en la comuna de Las Cabras\, vivirá una nueva versión de Expo Raíces Las Cabras 2025\, la que se realizará los días 17 y 18 de Octubre en el Parque Cultural Municipal de la comuna. \nCon el propósito de promover nuestras tradiciones\, fortalecer la identidad local y generar un sentido de pertenencia tanto dentro como fuera de la comuna\, la Fiesta Expo Raíces Las Cabras 2025 se presenta como una instancia cultural y turística que impulsa el desarrollo económico y la visibilidad de nuestros emprendedores. \nEste evento busca fomentar el encuentro entre productores y artesanos locales\, regionales y nacionales\, creando un espacio de intercambio\, colaboración y crecimiento para quienes preservan y celebran nuestras raíces. \nDurante las jornadas\, el público podrá disfrutar de una muestra productiva y artesanal\, además de una variada oferta que incluye: \n\nGastronomía típica\nCervezas artesanales\nChichas y pipeños\nRepostería y helados\nJuegos infantiles y mucho más
URL:https://calendario.fiestascostumbristas.cl/fiesta/expo-raices-las-cabras-2025/
LOCATION:Parque Cultural Las Cabras\, PM5P+89 Las Cabras\, Las Cabras\, Chile
CATEGORIES:Fiesta Costumbrista
END:VEVENT
END:VCALENDAR