BEGIN:VCALENDAR
VERSION:2.0
PRODID:-//Calendario de Fiestas Costumbristas - ECPv6.15.20//NONSGML v1.0//EN
CALSCALE:GREGORIAN
METHOD:PUBLISH
X-ORIGINAL-URL:https://calendario.fiestascostumbristas.cl
X-WR-CALDESC:Eventos para Calendario de Fiestas Costumbristas
REFRESH-INTERVAL;VALUE=DURATION:PT1H
X-Robots-Tag:noindex
X-PUBLISHED-TTL:PT1H
BEGIN:VTIMEZONE
TZID:UTC
BEGIN:STANDARD
TZOFFSETFROM:+0000
TZOFFSETTO:+0000
TZNAME:UTC
DTSTART:20240101T000000
END:STANDARD
END:VTIMEZONE
BEGIN:VEVENT
DTSTART;VALUE=DATE:20251003
DTEND;VALUE=DATE:20251006
DTSTAMP:20260422T201718
CREATED:20250923T221036Z
LAST-MODIFIED:20250923T221036Z
UID:810-1759449600-1759708799@calendario.fiestascostumbristas.cl
SUMMARY:Fiesta del Digüeñe Curarrehue 2025
DESCRIPTION:La Municipalidad de Curarrehue\, región de la Araucanía\, invita a participar en la Fiesta del Digüeñe Curarrehue 2025\, que se llevará a cabo los días 3\, 4 y 5 de octubre\, en la plaza de la comuna.
URL:https://calendario.fiestascostumbristas.cl/fiesta/fiesta-del-diguene-curarrehue-2025/
LOCATION:Plaza de Curarrehue\, Ruta 199 565-631\, Curarrehue\, Araucanía\, Curarrehue\, Araucanía\, Chile
CATEGORIES:Fiesta Costumbrista,Gastronomía Típica
ATTACH;FMTTYPE=image/webp:https://calendario.fiestascostumbristas.cl/wp-content/uploads/2025/09/Fiesta-del-Diguene-currarrehue-2025.webp
END:VEVENT
BEGIN:VEVENT
DTSTART;TZID=UTC:20251004T120000
DTEND;TZID=UTC:20251004T200000
DTSTAMP:20260422T201718
CREATED:20250923T215724Z
LAST-MODIFIED:20250923T215724Z
UID:805-1759579200-1759608000@calendario.fiestascostumbristas.cl
SUMMARY:Fiesta Costumbrista Lagunillas 2025
DESCRIPTION:Casablanca celebrará una de sus festividades más esperadas: la Fiesta Costumbrista Lagunillas 2025\, un evento que reúne lo mejor de la cultura rural\, las tradiciones y la identidad local. Este año\, la cita es el sábado 4 de octubre a partir de las 12:00 horas en el Estadio de Lagunillas\, comuna de Casablanca\, región de Valparaíso.\n\n \n\nDurante la jornada\, los asistentes podrán disfrutar de una variada programación de actividades pensadas para grandes y chicos. Entre ellas destacan:\n\n \n\n 	Gastronomía\n \n 	Artesanía\n \n 	Juegos típicos\n \n 	Presentaciones folclóricas\n \n 	Juegos infantiles
URL:https://calendario.fiestascostumbristas.cl/fiesta/fiesta-costumbrista-lagunillas-2025/
LOCATION:Estadio Lagunillas\, HH72+P9 Casablanca\, Casablanca\, Valparaiso\, Chile
CATEGORIES:Fiesta Costumbrista
ATTACH;FMTTYPE=image/webp:https://calendario.fiestascostumbristas.cl/wp-content/uploads/2025/09/Fiesta-Costumbrista-Lagunillas-2025.webp
END:VEVENT
END:VCALENDAR