BEGIN:VCALENDAR
VERSION:2.0
PRODID:-//Calendario de Fiestas Costumbristas - ECPv6.15.20//NONSGML v1.0//EN
CALSCALE:GREGORIAN
METHOD:PUBLISH
X-ORIGINAL-URL:https://calendario.fiestascostumbristas.cl
X-WR-CALDESC:Eventos para Calendario de Fiestas Costumbristas
REFRESH-INTERVAL;VALUE=DURATION:PT1H
X-Robots-Tag:noindex
X-PUBLISHED-TTL:PT1H
BEGIN:VTIMEZONE
TZID:UTC
BEGIN:STANDARD
TZOFFSETFROM:+0000
TZOFFSETTO:+0000
TZNAME:UTC
DTSTART:20240101T000000
END:STANDARD
END:VTIMEZONE
BEGIN:VEVENT
DTSTART;VALUE=DATE:20251010
DTEND;VALUE=DATE:20251013
DTSTAMP:20260422T214702
CREATED:20250924T204109Z
LAST-MODIFIED:20250924T204109Z
UID:824-1760054400-1760313599@calendario.fiestascostumbristas.cl
SUMMARY:Fiesta de la Nalca 2025 en Lebu
DESCRIPTION:La Municipalidad de Lebu\, región del Biobío\, invita a toda la comunidad a participar en la esperada Fiesta de la Nalca 2025 en Lebu\, un evento que se desarrollará durante tres días en la Plaza de Armas de Lebu\, los días 10\, 11 y 12 de octubre. Esta fiesta contará con grandes artistas nacionales e internacionales\, que prometen hacer vibrar a los asistentes con sus presentaciones en vivo.
URL:https://calendario.fiestascostumbristas.cl/fiesta/fiesta-de-la-nalca-2025-en-lebu/
LOCATION:Plaza de Armas de Lebu\, Andrés Bello 304\, Lebu\, Lebu\, Biobío\, Chile
CATEGORIES:Fiesta Costumbrista
ATTACH;FMTTYPE=image/webp:https://calendario.fiestascostumbristas.cl/wp-content/uploads/2025/09/Fiesta-de-la-Nalca-2025-en-Lebu.webp
END:VEVENT
BEGIN:VEVENT
DTSTART;VALUE=DATE:20251011
DTEND;VALUE=DATE:20251013
DTSTAMP:20260422T214702
CREATED:20250926T232054Z
LAST-MODIFIED:20250926T232054Z
UID:849-1760140800-1760313599@calendario.fiestascostumbristas.cl
SUMMARY:Fiesta Costumbrista Ruedas de Larmahue 2025
DESCRIPTION:La Ilustre Municipalidad de Pichidegua\, invita a la XX Fiesta Costumbrista Ruedas de Larmahue 2025\, que se celebrará bajo el lema “Valle de Almahue\, tradición que nos une”.\n\n \n\nEste encuentro se vivirá el sábado 11 y domingo 12 de octubre de 2025\, en la cancha de fútbol de Viceparroquia\, localidad de Larmahue\, comuna de Pichidegua\, en la Región de O’Higgins.
URL:https://calendario.fiestascostumbristas.cl/fiesta/fiesta-costumbrista-ruedas-de-larmahue-2025/
LOCATION:Cancha Viceparroquia\, HQQM+8X Almahue Viejo\, Pichidegua\, Pichidegua\, O'Higgins\, Chile
CATEGORIES:Fiesta Costumbrista
ATTACH;FMTTYPE=image/webp:https://calendario.fiestascostumbristas.cl/wp-content/uploads/2025/09/ruedas-de-larmahue-2025.webp
END:VEVENT
BEGIN:VEVENT
DTSTART;VALUE=DATE:20251011
DTEND;VALUE=DATE:20251013
DTSTAMP:20260422T214702
CREATED:20251009T211257Z
LAST-MODIFIED:20251009T211257Z
UID:882-1760140800-1760313599@calendario.fiestascostumbristas.cl
SUMMARY:Expogama 2025
DESCRIPTION:La versión XXVIII de EXPOGAMA 2025 se celebrará los días 11 y 12 de octubre de 2025 en la Medialuna de Marchigüe\, región de O’Higgins. Este evento reúne lo mejor del campo chileno\, con actividades ganaderas\, espectáculos artísticos\, competencias tradicionales y una muestra gastronómica imperdible. A continuación\, te compartimos el programa completo por días y espacios. \nLa ExpoGama es la Fiesta Costumbrista más tradicional de la comuna de Marchigüe\, la que se realiza todos los años durante dos días en la fecha o cercana al feriado del 12 de octubre.\nExpogama 2025 nació hace 28 años\, como una feria de Exposición Ganadera\, se convirtió con el tiempo en la vitrina más importante de nuestra comuna para exponer la artesanía\, gastronomía\, emprendimientos en general\, la cultura y el patrimonio de Marchigüe.
URL:https://calendario.fiestascostumbristas.cl/fiesta/expogama-2025/
LOCATION:Medialuna Marchigue\, H9WH+V4 Marchigüe\, Marchigue\, O'Higgins\, Chile
CATEGORIES:Fiesta Costumbrista
ATTACH;FMTTYPE=image/webp:https://calendario.fiestascostumbristas.cl/wp-content/uploads/2025/10/expogama-2025.webp
END:VEVENT
END:VCALENDAR