BEGIN:VCALENDAR
VERSION:2.0
PRODID:-//Calendario de Fiestas Costumbristas - ECPv6.15.20//NONSGML v1.0//EN
CALSCALE:GREGORIAN
METHOD:PUBLISH
X-ORIGINAL-URL:https://calendario.fiestascostumbristas.cl
X-WR-CALDESC:Eventos para Calendario de Fiestas Costumbristas
REFRESH-INTERVAL;VALUE=DURATION:PT1H
X-Robots-Tag:noindex
X-PUBLISHED-TTL:PT1H
BEGIN:VTIMEZONE
TZID:UTC
BEGIN:STANDARD
TZOFFSETFROM:+0000
TZOFFSETTO:+0000
TZNAME:UTC
DTSTART:20240101T000000
END:STANDARD
END:VTIMEZONE
BEGIN:VEVENT
DTSTART;VALUE=DATE:20251024
DTEND;VALUE=DATE:20251027
DTSTAMP:20260422T214713
CREATED:20250930T223842Z
LAST-MODIFIED:20250930T223934Z
UID:859-1761264000-1761523199@calendario.fiestascostumbristas.cl
SUMMARY:Gran Cumbre de Condorito 2025
DESCRIPTION:El evento más esperado del año ya tiene fecha confirmada. La Gran Cumbre de Condorito 2025 se celebrará en Cumpeo\, comuna de Río Claro\, región del Maule\, los días 24\, 25 y 26 de octubre de 2025\, reuniendo lo mejor de la cultura local en un ambiente familiar y lleno de diversión. \n\nUn fin de semana con lo mejor del arte y la cultura\n\n\n\nDurante tres días\, Cumpeo se transformará en el epicentro de la celebración con una programación repleta de actividades para todas las edades. El evento se llevará a cabo en el Recinto Media Luna de Cumpeo\, un espacio ideal para disfrutar en comunidad. \n\n\n\nShows\, gastronomía y artesanía en un solo lugar\n\n\n\nLos asistentes podrán disfrutar de: \n\n\n\n\nShows artísticos con presentaciones en vivo\n\n\n\nGastronomía típica de la zona\n\n\n\nArtesanía local con productos únicos
URL:https://calendario.fiestascostumbristas.cl/fiesta/gran-cumbre-de-condorito-2025/
LOCATION:Medialuna de Cumpeo\, K-31\, Río Claro\, Maule\, Cumpeo\, Maule\, Chile
CATEGORIES:Fiesta Costumbrista
ATTACH;FMTTYPE=image/webp:https://calendario.fiestascostumbristas.cl/wp-content/uploads/2025/09/gran-cumbre-de-condorito-2025.webp
END:VEVENT
END:VCALENDAR