BEGIN:VCALENDAR
VERSION:2.0
PRODID:-//Calendario de Fiestas Costumbristas - ECPv6.15.20//NONSGML v1.0//EN
CALSCALE:GREGORIAN
METHOD:PUBLISH
X-WR-CALNAME:Calendario de Fiestas Costumbristas
X-ORIGINAL-URL:https://calendario.fiestascostumbristas.cl
X-WR-CALDESC:Eventos para Calendario de Fiestas Costumbristas
REFRESH-INTERVAL;VALUE=DURATION:PT1H
X-Robots-Tag:noindex
X-PUBLISHED-TTL:PT1H
BEGIN:VTIMEZONE
TZID:UTC
BEGIN:STANDARD
TZOFFSETFROM:+0000
TZOFFSETTO:+0000
TZNAME:UTC
DTSTART:20240101T000000
END:STANDARD
END:VTIMEZONE
BEGIN:VEVENT
DTSTART;VALUE=DATE:20251108
DTEND;VALUE=DATE:20251110
DTSTAMP:20260422T163855
CREATED:20251014T200146Z
LAST-MODIFIED:20251014T200146Z
UID:898-1762560000-1762732799@calendario.fiestascostumbristas.cl
SUMMARY:Fiesta Los Corrales de Santa Ángela 2025
DESCRIPTION:Los días sábado 8 y domingo 9 de noviembre se celebrará la tercera versión de la Fiesta Los Corrales de Santa Ángela 2025\, un encuentro que rescata la identidad rural de Cañete\, región del Biobío\, con gastronomía típica\, artesanía local y shows en vivo para toda la familia.
URL:https://calendario.fiestascostumbristas.cl/fiesta/fiesta-los-corrales-de-santa-angela-2025/
LOCATION:Araucanía
CATEGORIES:Fiesta Costumbrista
ATTACH;FMTTYPE=image/webp:https://calendario.fiestascostumbristas.cl/wp-content/uploads/2025/10/Los-Corrales-de-santa-angela-2025.webp
END:VEVENT
END:VCALENDAR