BEGIN:VCALENDAR
VERSION:2.0
PRODID:-//Calendario de Fiestas Costumbristas - ECPv6.15.20//NONSGML v1.0//EN
CALSCALE:GREGORIAN
METHOD:PUBLISH
X-ORIGINAL-URL:https://calendario.fiestascostumbristas.cl
X-WR-CALDESC:Eventos para Calendario de Fiestas Costumbristas
REFRESH-INTERVAL;VALUE=DURATION:PT1H
X-Robots-Tag:noindex
X-PUBLISHED-TTL:PT1H
BEGIN:VTIMEZONE
TZID:UTC
BEGIN:STANDARD
TZOFFSETFROM:+0000
TZOFFSETTO:+0000
TZNAME:UTC
DTSTART:20250101T000000
END:STANDARD
END:VTIMEZONE
BEGIN:VEVENT
DTSTART;VALUE=DATE:20260110
DTEND;VALUE=DATE:20260112
DTSTAMP:20260424T053350
CREATED:20260106T212901Z
LAST-MODIFIED:20260106T212901Z
UID:1079-1768003200-1768175999@calendario.fiestascostumbristas.cl
SUMMARY:Fiesta de la Empanada 2026 en Concón
DESCRIPTION:La Ilustre Municipalidad de Concón invita a toda la comunidad a disfrutar de una nueva edición de la tradicional Fiesta de la Empanada 2026 en Concón. Con entrada liberada y la participación de 20 restaurantes\, este evento se realizará los días 10 y 11 de enero a partir de las 13:00 hrs. en el Estadio Atlético Municipal.\n\n \n\nAdemás de deleitarse con empanadas de todo tipo\, los asistentes podrán disfrutar de un gran cartel de artistas y actividades para toda la familia.\n\n\nArtistas Fiesta de la Empanada 2026 en Concón\n \nSábado 10 – Artistas invitados\n \n\n 	Plaza de Burbujas – 13:00 hrs\n \n 	Carla Romero – 14:00 a 14:40 hrs\n \n 	Orquesta Marga Marga – 15:00 a 16:00 hrs\n \n 	La Balsa – 16:30 a 17:10 hrs\n \n 	Los Casi Algo – 17:15 a 18:00 hrs\n \n 	La Máquina del Tiempo\, Nueva Ola – 19:00 a 20:00 hrs\n \n 	La + 569 – 20:30 a 21:30 hrs\n \n 	María José Quintanilla – 22:00 a 23:15 hrs\n\n \n\n\n\n \nDomingo 11 – Artistas invitados\n \n\n 	Plaza de Burbujas – 13:00 hrs\n \n 	Anaís Vásquez – 14:00 a 14:30 hrs\n \n 	Haka Taina – 14:30 a 15:15 hrs\n \n 	Veneno Blusero – 15:30 a 16:15 hrs\n \n 	Ídolos de América (Escuela Moderna) – 16:30 a 17:30 hrs\n \n 	Quinta Fase – 17:50 a 18:30 hrs\n \n 	Hermanos Morales – 18:45 a 20:00 hrs\n\n \nDetalles del Evento\n \n\n 	Fecha: Viernes 10 de enero de 2025\n \n 	Hora: Desde las 12:00 horas\n \n 	Lugar: Estadio Atlético de Concón (ver mapa)\n \n 	Participación: Más de 20 restaurantes ofreciendo una amplia variedad de empanadas.\n \n 	Abierto hasta las 21.30.\n \n 	Show comienza a las 18.00. \n \n 	Término del show 23.00 aproximadamente.
URL:https://calendario.fiestascostumbristas.cl/fiesta/fiesta-de-la-empanada-2026-en-concon/
CATEGORIES:Fiesta de la Empanada
ATTACH;FMTTYPE=image/webp:https://calendario.fiestascostumbristas.cl/wp-content/uploads/2026/01/fiesta-de-la-empanada-2026-concon.webp
END:VEVENT
END:VCALENDAR