BEGIN:VCALENDAR
VERSION:2.0
PRODID:-//Calendario de Fiestas Costumbristas - ECPv6.15.20//NONSGML v1.0//EN
CALSCALE:GREGORIAN
METHOD:PUBLISH
X-ORIGINAL-URL:https://calendario.fiestascostumbristas.cl
X-WR-CALDESC:Eventos para Calendario de Fiestas Costumbristas
REFRESH-INTERVAL;VALUE=DURATION:PT1H
X-Robots-Tag:noindex
X-PUBLISHED-TTL:PT1H
BEGIN:VTIMEZONE
TZID:UTC
BEGIN:STANDARD
TZOFFSETFROM:+0000
TZOFFSETTO:+0000
TZNAME:UTC
DTSTART:20240101T000000
END:STANDARD
END:VTIMEZONE
BEGIN:VEVENT
DTSTART;TZID=UTC:20250809T120000
DTEND;TZID=UTC:20250809T220000
DTSTAMP:20260422T181736
CREATED:20250803T174152Z
LAST-MODIFIED:20250803T174152Z
UID:226-1754740800-1754776800@calendario.fiestascostumbristas.cl
SUMMARY:Fiestas Patrias Peruanas en La Reina
DESCRIPTION:La comunidad de La Reina se prepara para vivir una jornada llena de cultura\, música y sabores en la celebración de las Fiestas Patrias Peruanas. Este evento promete reunir a familias y vecinos para conmemorar una de las fechas más importantes del calendario peruano. \nPrograma de actividades\n\n\nComida típica peruana \n\n\nDanzas artísticas tradicionales \n\n\nGrupos folclóricos \n\n\nJuegos \n\n\nMúsica en vivo con ritmos peruanos \n\n\n¡Muchas sorpresas más! \n\n\nEntrada libre para toda la comunidad\nLa entrada es completamente liberada\, lo que permite que toda la comunidad pueda disfrutar de esta fiesta cultural sin barreras. Es una excelente oportunidad para compartir\, aprender y celebrar la riqueza de las tradiciones peruanas en un ambiente familiar.
URL:https://calendario.fiestascostumbristas.cl/fiesta/fiestas-patrias-peruanas-en-la-reina/
LOCATION:Gimnasio Complejo Educacional La Reina\, Av. Alcalde Fernando Castillo Velasco 9451\, Santiago\, Metropolitana\, Chile
CATEGORIES:Fiestas Patrias
ATTACH;FMTTYPE=image/webp:https://calendario.fiestascostumbristas.cl/wp-content/uploads/2025/08/fiestas-patrias-peruanas-2025-en-la-reina.webp
END:VEVENT
BEGIN:VEVENT
DTSTART;TZID=UTC:20250820T080000
DTEND;TZID=UTC:20250820T170000
DTSTAMP:20260422T181736
CREATED:20250820T235146Z
LAST-MODIFIED:20250820T235146Z
UID:745-1755676800-1755709200@calendario.fiestascostumbristas.cl
SUMMARY:Fiestas Patrias en La Reina 2025
DESCRIPTION:Las Fiestas Patrias en La Reina 2025 son una de las celebraciones más esperadas del año: «Este 18 Encontrémonos en La Reina». Desde el 17 hasta el 19 de septiembre\, la Aldea del Encuentro\, en la comuna de La Reina\, región Metropolitana\, será el escenario de una gran fiesta que reunirá a vecinos y visitantes en torno a la música\, la cultura\, la gastronomía y la tradición chilena.\n\n\n\nFechas: 17 al 19 de septiembre de 2025\n\n \n\nHorario: 12:00 a 22:00 hrs.\n\n \n\nUbicación: Aldea del Encuentro\, Avenida Alcalde Fernando Castillo Velasco 9750\, La Reina\n\n \n\nDescripción: Un evento familiar con actividades para todas las edades\, incluyendo shows de folclore\, música en vivo\, cocinerías\, artesanía\, foodtrucks\, juegos criollos\, talleres para niños y mucho más.\n\n \n\nValor de las entradas:\n\n \n\n 	Vecinos de La Reina con Tarjeta Ciudad: $5.000\n \n 	General: $8.000\n \n 	Adultos mayores vecinos de La Reina (60 años en adelante) y niños/as hasta 7 años: Entrada gratuita\n\n \n\nVenta en ww.ticketplus y en boleterías los días del evento
URL:https://calendario.fiestascostumbristas.cl/fiesta/fiestas-patrias-en-la-reina-2025/
LOCATION:aldea del Encuentro\, GFX9+P6 La Reina\, La Reina\, Metropolitana\, Chile
CATEGORIES:Fiestas Patrias
ATTACH;FMTTYPE=image/webp:https://calendario.fiestascostumbristas.cl/wp-content/uploads/2025/08/Fiestas-Patrias-en-La-Reina-2025.webp
END:VEVENT
END:VCALENDAR