BEGIN:VCALENDAR
VERSION:2.0
PRODID:-//Calendario de Fiestas Costumbristas - ECPv6.15.20//NONSGML v1.0//EN
CALSCALE:GREGORIAN
METHOD:PUBLISH
X-WR-CALNAME:Calendario de Fiestas Costumbristas
X-ORIGINAL-URL:https://calendario.fiestascostumbristas.cl
X-WR-CALDESC:Eventos para Calendario de Fiestas Costumbristas
REFRESH-INTERVAL;VALUE=DURATION:PT1H
X-Robots-Tag:noindex
X-PUBLISHED-TTL:PT1H
BEGIN:VTIMEZONE
TZID:UTC
BEGIN:STANDARD
TZOFFSETFROM:+0000
TZOFFSETTO:+0000
TZNAME:UTC
DTSTART:20240101T000000
END:STANDARD
END:VTIMEZONE
BEGIN:VEVENT
DTSTART;TZID=UTC:20250906T000000
DTEND;TZID=UTC:20250906T190000
DTSTAMP:20260422T204328
CREATED:20250904T223004Z
LAST-MODIFIED:20250904T223004Z
UID:796-1757116800-1757185200@calendario.fiestascostumbristas.cl
SUMMARY:MegaFonda Familiar en Quinta Normal
DESCRIPTION:La Municipalidad invita a todas las familias a disfrutar de una jornada llena de música\, baile y entretención en la MegaFonda Familiar en Quinta Normal\, un espacio pensado para celebrar las Fiestas Patrias en un entorno libre de humo y alcohol en la región Metropolitana.
URL:https://calendario.fiestascostumbristas.cl/fiesta/megafonda-familiar-en-quinta-normal/
LOCATION:Biobio
CATEGORIES:Fiestas Patrias
ATTACH;FMTTYPE=image/webp:https://calendario.fiestascostumbristas.cl/wp-content/uploads/2025/09/MegaFonda-Familiar-en-Quinta-Normal.webp
END:VEVENT
BEGIN:VEVENT
DTSTART;VALUE=DATE:20250906
DTEND;VALUE=DATE:20250907
DTSTAMP:20260422T204328
CREATED:20250731T230621Z
LAST-MODIFIED:20250731T230621Z
UID:135-1757116800-1757203199@calendario.fiestascostumbristas.cl
SUMMARY:Gran Rancherazo Nacional de Fiestas Patrias 2025
DESCRIPTION:La celebración más esperada del año ya tiene fecha y lugar confirmados. El Gran Rancherazo Nacional de Fiestas Patrias 2025 se tomará el Club Hípico de Santiago este 6 de septiembre de 2025\, reuniendo a destacados exponentes de la música ranchera y tropical chilena para celebrar con todo las Fiestas Patrias. \n\nArtistas y bandas confirmadas\nEstos son los grupos y solistas que encenderán el escenario en esta gran jornada musical: \n\nZúmbale Primo\nAmar Azul\nLa Descendencia Chilena\nLos Vikings 5\nSonora Malecon\nLos Llaneros de la Frontera\nLos Charros de Luchito y Rafael\nAlanis Lagos\nGrupo Disparo\nLos Dinos de Chile\nLos Rancheros del Río Maule\nLos Lumaquinos Alegres\nToly Fu\nLos Tigres de Parral\nArremacho\nLos Chamacos
URL:https://calendario.fiestascostumbristas.cl/fiesta/gran-rancherazo-nacional-de-fiestas-patrias-2025/
LOCATION:Club Hipico de Santiago\, Club Hípico de Santiago\, Santiago\, Metropolitana\, Chile
CATEGORIES:Fiesta Ranchera,Fiestas Patrias
ATTACH;FMTTYPE=image/webp:https://calendario.fiestascostumbristas.cl/wp-content/uploads/2025/07/Gran-Rancherazo-Nacional-de-Fiestas-Patrias-2025.webp
END:VEVENT
BEGIN:VEVENT
DTSTART;VALUE=DATE:20250906
DTEND;VALUE=DATE:20250908
DTSTAMP:20260422T204328
CREATED:20250825T221916Z
LAST-MODIFIED:20250825T221916Z
UID:765-1757116800-1757289599@calendario.fiestascostumbristas.cl
SUMMARY:Fiesta Costumbrista El Bosque 2025
DESCRIPTION:La comuna de El Bosque\, ubicada en la Región Metropolitana de Santiago\, se prepara para recibir la 21 Fiesta Costumbrista El Bosque 2025\, un evento que ya se ha transformado en parte esencial de la identidad cultural de la comuna.\n\n \n\nEl encuentro se realizará el sábado 6 y domingo 7 de septiembre de 2025 en el Centro Cívico Cultural\, Plaza Lo Lillo\, a un costado de la Municipalidad de El Bosque. Las actividades comienzan desde las 11:00 horas y la entrada es completamente liberada.\n\n\n\n 
URL:https://calendario.fiestascostumbristas.cl/fiesta/fiesta-costumbrista-el-bosque-2025/
LOCATION:Centro Civico El Bosque\, C8VP+4J El Bosque\, El Bosque\, Metropolitana\, Chile
CATEGORIES:Fiestas Patrias
ATTACH;FMTTYPE=image/webp:https://calendario.fiestascostumbristas.cl/wp-content/uploads/2025/08/Fiesta-Costumbrista-de-El-Bosque-2025.webp
END:VEVENT
BEGIN:VEVENT
DTSTART;VALUE=DATE:20250906
DTEND;VALUE=DATE:20250908
DTSTAMP:20260422T204328
CREATED:20250830T001826Z
LAST-MODIFIED:20250830T001826Z
UID:780-1757116800-1757289599@calendario.fiestascostumbristas.cl
SUMMARY:Chile Lindo 2025 en Vitacura
DESCRIPTION:El Parque Bicentenario de Vitacura se prepara para recibir una nueva edición de Chile Lindo 2025 en Vitacura\, la gran fiesta familiar que dará inicio al Mes de la Patria. Serán dos jornadas\, el sábado 6 y domingo 7 de septiembre de 2025\, con actividades pensadas para toda la familia\, entre las 11:00 y 20:00 horas \nProgramación Chile Lindo 2025 en Vitacura\nSábado 6 de septiembre\n\nGrupo Zapallo: música infantil con juegos y canciones.\nLos Huasos Quincheros: íconos del folclore nacional.\nDúo Pajarito: sonoridades latinoamericanas.\nSaiko: la reconocida banda liderada por Denisse Malebrán.\nAmigo de Artistas: proyecto colaborativo con nuevas versiones de clásicos chilenos\, tras una exitosa gira por Argentina.\n\nDomingo 7 de septiembre\n\nPatapelá: apertura con ritmos festivos.\nLos Huasos de Algarrobal: tradición y música huasa.\nBelencha: fusión de ritmos actuales con raíces chilenas.\nHermanos Ilabaca: energía y diversidad musical.\nMoral Distraída: gran cierre con su mezcla de cumbia\, salsa y música urbana.
URL:https://calendario.fiestascostumbristas.cl/fiesta/chile-lindo-2025-en-vitacura/
LOCATION:Parque Bicentenario\, Av. Bicentenario 3236\, Vitacura\,\, Vitacura\, Región Metropolitana\, Chile
CATEGORIES:Fiestas Patrias
ATTACH;FMTTYPE=image/webp:https://calendario.fiestascostumbristas.cl/wp-content/uploads/2025/08/Chile-Lindo-Vitacura-2025.webp
END:VEVENT
END:VCALENDAR