BEGIN:VCALENDAR
VERSION:2.0
PRODID:-//Calendario de Fiestas Costumbristas - ECPv6.15.20//NONSGML v1.0//EN
CALSCALE:GREGORIAN
METHOD:PUBLISH
X-ORIGINAL-URL:https://calendario.fiestascostumbristas.cl
X-WR-CALDESC:Eventos para Calendario de Fiestas Costumbristas
REFRESH-INTERVAL;VALUE=DURATION:PT1H
X-Robots-Tag:noindex
X-PUBLISHED-TTL:PT1H
BEGIN:VTIMEZONE
TZID:UTC
BEGIN:STANDARD
TZOFFSETFROM:+0000
TZOFFSETTO:+0000
TZNAME:UTC
DTSTART:20240101T000000
END:STANDARD
END:VTIMEZONE
BEGIN:VEVENT
DTSTART;VALUE=DATE:20250801
DTEND;VALUE=DATE:20250804
DTSTAMP:20260423T113040
CREATED:20250727T003739Z
LAST-MODIFIED:20250727T003909Z
UID:80-1754006400-1754265599@calendario.fiestascostumbristas.cl
SUMMARY:21 Expo Pueblos Originarios 2025 en Peñalolén
DESCRIPTION:La 21 Expo Pueblos Originarios 2025 se celebrará del 1 al 3 de agosto en el Centro Ceremonial de Pueblos Originarios de Peñalolén\, Región Metropolitana de Santiago. \n\n\n\nEsta feria cultural reúne actividades\, talleres\, conversatorios y presentaciones artísticas\, en torno a las tradiciones de los pueblos indígenas. \n\n 
URL:https://calendario.fiestascostumbristas.cl/fiesta/21-expo-pueblos-originarios-2025-en-penalolen/
LOCATION:Av. José Arrieta N° 7659-A\, Peñalolén\, Av. José Arrieta N° 7659-A\, Peñalolén\, Santiago\, Metropolitana\, Chile
CATEGORIES:Pueblos Originarios
ATTACH;FMTTYPE=image/webp:https://calendario.fiestascostumbristas.cl/wp-content/uploads/2025/07/21-Expo-Pueblos-Originarios-2025.webp
END:VEVENT
END:VCALENDAR